BEGIN:VCALENDAR
VERSION:2.0
PRODID:-//Sunvalley Events//EN
CALSCALE:GREGORIAN
METHOD:PUBLISH
X-WR-CALNAME:Sunvalley Events
X-WR-TIMEZONE:America/Boise
BEGIN:VTIMEZONE
TZID:America/Boise
BEGIN:DAYLIGHT
TZOFFSETFROM:-0700
TZOFFSETTO:-0600
TZNAME:MDT
DTSTART:19700308T020000
RRULE:FREQ=YEARLY;BYMONTH=3;BYDAY=SU
END:DAYLIGHT
BEGIN:STANDARD
TZOFFSETFROM:-0600
TZOFFSETTO:-0700
TZNAME:MST
DTSTART:19701101T020000
RRULE:FREQ=YEARLY;BYMONTH=11;BYDAY=SU
END:STANDARD
END:VTIMEZONE
BEGIN:VEVENT
UID:193787@sunvalley
DTSTAMP:20260423T152532Z
DTSTART;TZID=America/Boise:20260425T210000
DTEND;TZID=America/Boise:20260425T210000
SUMMARY:Sawtooth Botanical Garden Stargazing
DESCRIPTION:Following the Earth Fest in Hailey\, the Idaho Dark Sky Allianc
 e and the Sawtooth Botanical Garden will be hosting a free stargazing event
 ! If the sky is cloudy\, check the Idaho Dark Sky Instagram and Facebook pa
 ges for updates.
URL:https://visitsunvalley.com/events/sawtooth-botanical-garden-stargazing/
END:VEVENT
END:VCALENDAR
