BEGIN:VCALENDAR
VERSION:2.0
PRODID:-//Sunvalley Events//EN
CALSCALE:GREGORIAN
METHOD:PUBLISH
X-WR-CALNAME:Sunvalley Events
X-WR-TIMEZONE:America/Boise
BEGIN:VTIMEZONE
TZID:America/Boise
BEGIN:DAYLIGHT
TZOFFSETFROM:-0700
TZOFFSETTO:-0600
TZNAME:MDT
DTSTART:19700308T020000
RRULE:FREQ=YEARLY;BYMONTH=3;BYDAY=SU
END:DAYLIGHT
BEGIN:STANDARD
TZOFFSETFROM:-0600
TZOFFSETTO:-0700
TZNAME:MST
DTSTART:19701101T020000
RRULE:FREQ=YEARLY;BYMONTH=11;BYDAY=SU
END:STANDARD
END:VTIMEZONE
BEGIN:VEVENT
UID:193735@sunvalley
DTSTAMP:20260422T122943Z
DTSTART;VALUE=DATE:20260509
DTEND;VALUE=DATE:20260510
SUMMARY:Celebrate Mother’s Day at Sun Valley Garden Center
DESCRIPTION:Celebrate Mother’s Day at Sun Valley Garden Center on Saturda
 y\, May 9!\\n\\nEnjoy a weekend “Mom’s Shop” sale with 15% off\, plus
  fun activities for all ages.\\nKids can drop in between 10:00 AM and noon 
 to paint a pot and plant a special gift for Mom ($10).\\nIn the afternoon\,
  join a guided Sip & Paint workshop from 4:00–6:00 PM ($65)\, with early 
 shopping discounts available. Visit www.kaliestier.com/workshops to sign up
  for the Sip & Paint.\\nA perfect day to shop\, create\, and celebrate the 
 moms in your life!
URL:https://visitsunvalley.com/events/celebrate-mothers-day-at-sun-valley-g
 arden-center/
END:VEVENT
END:VCALENDAR
