BEGIN:VCALENDAR
VERSION:2.0
PRODID:-//Sunvalley Events//EN
CALSCALE:GREGORIAN
METHOD:PUBLISH
X-WR-CALNAME:Sunvalley Events
X-WR-TIMEZONE:America/Boise
BEGIN:VTIMEZONE
TZID:America/Boise
BEGIN:DAYLIGHT
TZOFFSETFROM:-0700
TZOFFSETTO:-0600
TZNAME:MDT
DTSTART:19700308T020000
RRULE:FREQ=YEARLY;BYMONTH=3;BYDAY=SU
END:DAYLIGHT
BEGIN:STANDARD
TZOFFSETFROM:-0600
TZOFFSETTO:-0700
TZNAME:MST
DTSTART:19701101T020000
RRULE:FREQ=YEARLY;BYMONTH=11;BYDAY=SU
END:STANDARD
END:VTIMEZONE
BEGIN:VEVENT
UID:193729@sunvalley
DTSTAMP:20260421T125733Z
DTSTART;TZID=America/Boise:20260721T130000
DTEND;TZID=America/Boise:20260721T160000
SUMMARY:Summer Maker Space Family Open Studio – Hailey
DESCRIPTION:Summer Maker Space is an open studio for families to create\, e
 xplore\, and play together. Drop in anytime to experiment with hands-on art
  activities that blend creativity with the joys of being outside in the sum
 mer. From painting and printmaking to working with natural materials\, each
  session invites participants of all ages to make at their own pace\, follo
 w their curiosity\, and connect with art\, nature\, and community.\\n\\nSen
 sory Paint Play\\nDive into a full-body painting experience where movement\
 , texture\, and color come together. Use your hands\, feet\, and creative e
 nergy to explore mark-making on a large shared canvas. This playful\, colla
 borative activity invites participants of all ages to experiment freely and
  express themselves through motion and paint.\\n\\nGiant Cyanotypes\\nCreat
 e striking blue-and-white prints using the power of sunlight. Arrange leave
 s\, flowers\, and found objects on fabric or paper\, then watch as your com
 position develops in the sun like magic. This hands-on process blends art a
 nd science\, capturing the shapes of nature in beautiful\, one-of-a-kind pr
 ints.\\n\\nEarth Materials Lab\\nDiscover the possibilities of creating wit
 h natural materials. Paint with handmade inks from walnuts and acorns\, exp
 eriment with turmeric sun prints\, and weave or build using sticks\, wool\,
  and found objects. This open-ended space encourages curiosity\, creativity
 \, and a deeper connection to the natural world.\\n\\nSummer Maker Space ta
 kes place from 1–4pm.\\nSummer Maker Space Open Studio Dates & Locations:
 \\nTuesdays | 1–4pm\\nJuly 14\, 28 & Aug 11 The Museum\\nJuly 21 & August
  4\, 18 Hailey Classroom\\nCome once or every week!
URL:https://visitsunvalley.com/events/summer-maker-space-family-open-studio
 -hailey/
END:VEVENT
END:VCALENDAR
