BEGIN:VCALENDAR
VERSION:2.0
PRODID:-//Sunvalley Events//EN
CALSCALE:GREGORIAN
METHOD:PUBLISH
X-WR-CALNAME:Sunvalley Events
X-WR-TIMEZONE:America/Boise
BEGIN:VTIMEZONE
TZID:America/Boise
BEGIN:DAYLIGHT
TZOFFSETFROM:-0700
TZOFFSETTO:-0600
TZNAME:MDT
DTSTART:19700308T020000
RRULE:FREQ=YEARLY;BYMONTH=3;BYDAY=SU
END:DAYLIGHT
BEGIN:STANDARD
TZOFFSETFROM:-0600
TZOFFSETTO:-0700
TZNAME:MST
DTSTART:19701101T020000
RRULE:FREQ=YEARLY;BYMONTH=11;BYDAY=SU
END:STANDARD
END:VTIMEZONE
BEGIN:VEVENT
UID:193725@sunvalley
DTSTAMP:20260421T155440Z
DTSTART;TZID=America/Boise:20260615T090000
DTEND;TZID=America/Boise:20260615T160000
SUMMARY:Art Lab (for kids ages 12–14/entering grades 7–9)
DESCRIPTION:Art Lab is an immersive weeklong studio experience designed for
  teens who are curious\, creative\, and ready to dive deeper into art makin
 g. Participants will strengthen technical skills\, experiment with new idea
 s\, and create original artwork in a supportive and inspiring environment.\
 \n\\nThroughout the week\, young artists will explore a range of materials 
 and processes including painting\, drawing\, collage\, and clay. Art-focuse
 d projects and guided exploration will encourage creative problem solving\,
  self-expression\, and confidence in the studio.\\n\\nCampers should bring 
 a snack\, lunch\, and water bottle\, and wear comfortable\, art-friendly cl
 othing suitable for a full day of creative work.\\n\\nSpace is limited\, so
  early registration is encouraged.\\nScholarships are available upon reques
 t.\\n\\nArt Lab takes place Mon–Fri\, June 15–19\, 9am–4pm daily.
URL:https://visitsunvalley.com/events/art-lab-for-kids-ages-12-14-entering-
 grades-7-9/
END:VEVENT
END:VCALENDAR
