BEGIN:VCALENDAR
VERSION:2.0
PRODID:-//Sunvalley Events//EN
CALSCALE:GREGORIAN
METHOD:PUBLISH
X-WR-CALNAME:Sunvalley Events
X-WR-TIMEZONE:America/Boise
BEGIN:VTIMEZONE
TZID:America/Boise
BEGIN:DAYLIGHT
TZOFFSETFROM:-0700
TZOFFSETTO:-0600
TZNAME:MDT
DTSTART:19700308T020000
RRULE:FREQ=YEARLY;BYMONTH=3;BYDAY=SU
END:DAYLIGHT
BEGIN:STANDARD
TZOFFSETFROM:-0600
TZOFFSETTO:-0700
TZNAME:MST
DTSTART:19701101T020000
RRULE:FREQ=YEARLY;BYMONTH=11;BYDAY=SU
END:STANDARD
END:VTIMEZONE
BEGIN:VEVENT
UID:193723@sunvalley
DTSTAMP:20260421T194408Z
DTSTART;TZID=America/Boise:20260611T173000
DTEND;TZID=America/Boise:20260611T203000
SUMMARY:Hand Stitched Leather Wallet With Morgan Buckert
DESCRIPTION:In this three-hour workshop\, participants will hand-stitch the
 ir own vegetable-tanned leather wallet. Participants can personalize their 
 wallet with stamps and paints as well.\\nAll materials are provided in the 
 workshop.\\nWorkshop is part of the Idaho Cowgirl Congress Exhibition.\\n\\
 nThis class will take place from 5:30-8:30pm at a Mid-Valley Ranch Location
 \, that will be shared after registration before the event date.\\n16+\, Al
 l Levels\, Beginners Welcome\\nAbout the Artist\\n\\nMorgan Buckert builds 
 custom cowboy boots in her Hailey\, Idaho workshop. Using traditional techn
 iques and vintage machinery\, Morgan builds cowboy boots and leather goods 
 meant to last a lifetime.
URL:https://visitsunvalley.com/events/hand-stitched-leather-wallet-with-mor
 gan-buckert/
END:VEVENT
END:VCALENDAR
