BEGIN:VCALENDAR
VERSION:2.0
PRODID:-//Sunvalley Events//EN
CALSCALE:GREGORIAN
METHOD:PUBLISH
X-WR-CALNAME:Sunvalley Events
X-WR-TIMEZONE:America/Boise
BEGIN:VTIMEZONE
TZID:America/Boise
BEGIN:DAYLIGHT
TZOFFSETFROM:-0700
TZOFFSETTO:-0600
TZNAME:MDT
DTSTART:19700308T020000
RRULE:FREQ=YEARLY;BYMONTH=3;BYDAY=SU
END:DAYLIGHT
BEGIN:STANDARD
TZOFFSETFROM:-0600
TZOFFSETTO:-0700
TZNAME:MST
DTSTART:19701101T020000
RRULE:FREQ=YEARLY;BYMONTH=11;BYDAY=SU
END:STANDARD
END:VTIMEZONE
BEGIN:VEVENT
UID:193718@sunvalley
DTSTAMP:20260423T133829Z
DTSTART;TZID=America/Boise:20260605T170000
DTEND;TZID=America/Boise:20260605T190000
SUMMARY:FIRST FRIDAYS Featuring Blaze and Meghan Kelly Watters
DESCRIPTION:Join us for First Fridays featuring Niccole Blaze and percussio
 nist Meghan Kelly Watters as they serve up the sweet and salty songs you cr
 ave with lush vocals\, deep groove\, and stories that linger. The evening w
 ill feature originals with heart\, familiar favorites with a twist\, and a 
 rhythm that moves the room. Come for the art\, stay for the music.\\n\\nFre
 e admission for everyone. Complimentary drinks for members. No reservation 
 required\, simply stop by and enjoy!
URL:https://visitsunvalley.com/events/first-fridays-featuring-blaze-and-meg
 han-kelly-watters/
END:VEVENT
END:VCALENDAR
