BEGIN:VCALENDAR
VERSION:2.0
PRODID:-//Sunvalley Events//EN
CALSCALE:GREGORIAN
METHOD:PUBLISH
X-WR-CALNAME:Sunvalley Events
X-WR-TIMEZONE:America/Boise
BEGIN:VTIMEZONE
TZID:America/Boise
BEGIN:DAYLIGHT
TZOFFSETFROM:-0700
TZOFFSETTO:-0600
TZNAME:MDT
DTSTART:19700308T020000
RRULE:FREQ=YEARLY;BYMONTH=3;BYDAY=SU
END:DAYLIGHT
BEGIN:STANDARD
TZOFFSETFROM:-0600
TZOFFSETTO:-0700
TZNAME:MST
DTSTART:19701101T020000
RRULE:FREQ=YEARLY;BYMONTH=11;BYDAY=SU
END:STANDARD
END:VTIMEZONE
BEGIN:VEVENT
UID:193716@sunvalley
DTSTAMP:20260423T133829Z
DTSTART;TZID=America/Boise:20260603T170000
DTEND;TZID=America/Boise:20260603T183000
SUMMARY:Art on Film: Hard Twist: Through the Lens of Barbara Van Cleve
DESCRIPTION:Join SVMoA and Merlin's Magic Lantern for a screening of Hard T
 wist: Through the Lens of Barbara Van Cleve\, a documentary portrait about 
 the life of the famous western photographer\, Barbara Van Cleve. Barbara is
  a fifth-generation Montanan with a century of family history going back to
  the early 1900s\, when her family settled in the Crazy Mountain area. Upon
  their arrival in Montana\, the Van Cleves began operating a dude ranch\, w
 here Barbara grew up and spent most of her summers as an adult.\\n\\nHard T
 wist follows Barbara’s storied career as it spans decades and acres\, hel
 ping the world witness the camaraderie and sisterhood often overlooked in m
 ainstream representations of ranchers. Using Barbara’s most iconic work a
 nd archival footage of the Lazy K Bar Ranch where she spent her youth\, vie
 wers will experience the West through Barbara’s eyes. She recounts how he
 r family’s relationship to the land helped shape the artist she became\, 
 discusses Montana’s changing landscape and culture\, and explores what it
  means to build an identity tied to open space.\\n\\nAs part of the screeni
 ng\, Felicitas Funke\, the creative and executive producer and Wood River V
 alley local\, will join us to talk about the film. The film is directed and
  produced by Cynthia Matty-Huber. Film Length: 1 hour 19 minutes. $10 membe
 r / $12 nonmember
URL:https://visitsunvalley.com/events/art-on-film-hard-twist-through-the-le
 ns-of-barbara-van-cleve/
END:VEVENT
END:VCALENDAR
