BEGIN:VCALENDAR
VERSION:2.0
PRODID:-//Sunvalley Events//EN
CALSCALE:GREGORIAN
METHOD:PUBLISH
X-WR-CALNAME:Sunvalley Events
X-WR-TIMEZONE:America/Boise
BEGIN:VTIMEZONE
TZID:America/Boise
BEGIN:DAYLIGHT
TZOFFSETFROM:-0700
TZOFFSETTO:-0600
TZNAME:MDT
DTSTART:19700308T020000
RRULE:FREQ=YEARLY;BYMONTH=3;BYDAY=SU
END:DAYLIGHT
BEGIN:STANDARD
TZOFFSETFROM:-0600
TZOFFSETTO:-0700
TZNAME:MST
DTSTART:19701101T020000
RRULE:FREQ=YEARLY;BYMONTH=11;BYDAY=SU
END:STANDARD
END:VTIMEZONE
BEGIN:VEVENT
UID:193712@sunvalley
DTSTAMP:20260421T142647Z
DTSTART;TZID=America/Boise:20260514T170000
DTEND;TZID=America/Boise:20260514T190000
SUMMARY:MUSEUM AFTER HOURS: Art Trivia Night with Host David Janeski
DESCRIPTION:Put your art knowledge to the test at our first SVMoA After Hou
 rs Art Trivia Night—an evening of friendly competition and lively convers
 ation hosted by SVMoA’s own David Janeski and set against the backdrop of
  our current exhibition. Gather your team (or join one when you arrive) and
  work your way through three rounds of questions that are approachable and 
 engaging\, with just enough challenge to keep things interesting.\\n\\nWhet
 her you’re here to win\, learn something new\, or simply soak in the atmo
 sphere\, the evening will offer a fresh\, social way to experience the Sun 
 Valley Museum of Art. SVMoA swag and\, of course\, bragging rights will be 
 awarded to the winning team.\\n\\nSeating begins at 5:00 PM\, with Round 1 
 kicking off at 5:15 PM.\\n\\nParticipants are capped at 50\, so register (y
 ourself or your whole team) early to secure your spot. Plus\, you can skip 
 the early evening construction traffic jam and join us at SVMoA instead!
URL:https://visitsunvalley.com/events/museum-after-hours-art-trivia-night-w
 ith-host-david-janeski/
END:VEVENT
END:VCALENDAR
