BEGIN:VCALENDAR
VERSION:2.0
PRODID:-//Sunvalley Events//EN
CALSCALE:GREGORIAN
METHOD:PUBLISH
X-WR-CALNAME:Sunvalley Events
X-WR-TIMEZONE:America/Boise
BEGIN:VTIMEZONE
TZID:America/Boise
BEGIN:DAYLIGHT
TZOFFSETFROM:-0700
TZOFFSETTO:-0600
TZNAME:MDT
DTSTART:19700308T020000
RRULE:FREQ=YEARLY;BYMONTH=3;BYDAY=SU
END:DAYLIGHT
BEGIN:STANDARD
TZOFFSETFROM:-0600
TZOFFSETTO:-0700
TZNAME:MST
DTSTART:19701101T020000
RRULE:FREQ=YEARLY;BYMONTH=11;BYDAY=SU
END:STANDARD
END:VTIMEZONE
BEGIN:VEVENT
UID:193708@sunvalley
DTSTAMP:20260421T111646Z
DTSTART;TZID=America/Boise:20260506T170000
DTEND;TZID=America/Boise:20260506T184500
SUMMARY:Art on Film: Maintenance Artist
DESCRIPTION:Join SVMoA and Merlin's Magic Lantern for a screening of Mainte
 nance Artist\, the first feature documentary about revolutionary public art
 ist\, Mierle Laderman Ukeles\, who in 1977 became the first artist-in-resid
 ence at NYC’s Department of Sanitation. Ukeles called for a Maintenance R
 evolution\, collaborating with municipal workers to inject art directly int
 o the city’s bloodstream. Inspired by Marcel Duchamp\, she pioneered the 
 notion that routine maintenance – from changing diapers to picking up cit
 y trash to caring for the earth – could be acts of performance art.\\n\\n
 Documentary Magazine calls the film\, “A fascinating look at an undeterre
 d feminist and advocate for the working class who constantly defied such ea
 sy labels.” With never-before-seen archival footage\, Maintenance Artist 
 tells a story of essential workers and radical contemporary art set during 
 the social and artistic upheavals of the last half-century.\\n\\n$10 member
  / $12 nonmember\\n\\nThe film is written\, directed and produced by Toby P
 erl Freilich. Film Length: 1 hour 35 minutes.
URL:https://visitsunvalley.com/events/art-on-film-maintenance-artist/
END:VEVENT
END:VCALENDAR
