BEGIN:VCALENDAR
VERSION:2.0
PRODID:-//Sunvalley Events//EN
CALSCALE:GREGORIAN
METHOD:PUBLISH
X-WR-CALNAME:Sunvalley Events
X-WR-TIMEZONE:America/Boise
BEGIN:VTIMEZONE
TZID:America/Boise
BEGIN:DAYLIGHT
TZOFFSETFROM:-0700
TZOFFSETTO:-0600
TZNAME:MDT
DTSTART:19700308T020000
RRULE:FREQ=YEARLY;BYMONTH=3;BYDAY=SU
END:DAYLIGHT
BEGIN:STANDARD
TZOFFSETFROM:-0600
TZOFFSETTO:-0700
TZNAME:MST
DTSTART:19701101T020000
RRULE:FREQ=YEARLY;BYMONTH=11;BYDAY=SU
END:STANDARD
END:VTIMEZONE
BEGIN:VEVENT
UID:193704@sunvalley
DTSTAMP:20260421T125518Z
DTSTART;TZID=America/Boise:20260423T170000
DTEND;TZID=America/Boise:20260423T190000
SUMMARY:Member Open Studio: Gratitude Card Making
DESCRIPTION:Unleash your inner artist at our member open studio event\, whe
 re we invite you to explore a variety of mediums to create personalized gra
 titude cards. Whether you're experimenting with watercolors\, collage\, gli
 tter paint\, or markers\, this is your space to play\, reflect\, and connec
 t through the power of handmade art. It’s a wonderful opportunity to chan
 nel your creativity into heartfelt messages that spread joy to friends\, fa
 mily\, and our community. We provide the supplies and the inspiration\; you
  bring the imagination! Wine and refreshments will also be provided.\\n\\nT
 his event takes place from 5-7pm.
URL:https://visitsunvalley.com/events/member-open-studio-gratitude-card-mak
 ing/
END:VEVENT
END:VCALENDAR
