BEGIN:VCALENDAR
VERSION:2.0
PRODID:-//Sunvalley Events//EN
CALSCALE:GREGORIAN
METHOD:PUBLISH
X-WR-CALNAME:Sunvalley Events
X-WR-TIMEZONE:America/Boise
BEGIN:VTIMEZONE
TZID:America/Boise
BEGIN:DAYLIGHT
TZOFFSETFROM:-0700
TZOFFSETTO:-0600
TZNAME:MDT
DTSTART:19700308T020000
RRULE:FREQ=YEARLY;BYMONTH=3;BYDAY=SU
END:DAYLIGHT
BEGIN:STANDARD
TZOFFSETFROM:-0600
TZOFFSETTO:-0700
TZNAME:MST
DTSTART:19701101T020000
RRULE:FREQ=YEARLY;BYMONTH=11;BYDAY=SU
END:STANDARD
END:VTIMEZONE
BEGIN:VEVENT
UID:193700@sunvalley
DTSTAMP:20260421T155843Z
DTSTART;TZID=America/Boise:20260516T110000
DTEND;TZID=America/Boise:20260516T140000
SUMMARY:Bug Zoo Festival: Insect Superpowers
DESCRIPTION:Did you know that cockroaches can hold their breath for up to f
 orty minutes\, and can survive submerged in water for up to thirty minutes?
 ! Or that fleas can jump more than 100 times their own length! That’s lik
 e you jumping one to two football fields in length. WOW.\\n\\nIt’s time f
 or SBG’s annual Bug Zoo Festival! Pop over to the garden on May 16th from
  11am-2pm for lots of fun with hands-on educational activities in a festiva
 l atmosphere. There will be interactive exhibits\, live critters\, fun acti
 vities\, face painting\, Adopt a “Bug” animal adoptions with Mountain H
 umane\, food for sale and much more! Entrance tickets: adults $10\, youth 3
 -18 years $5\, and littles 0-3 years free.\\n\\nNote to educators: We invit
 e classes to the garden for scheduled educational tours May 12th-May 15th f
 rom 9am-2pm. Materials will be geared towards students pre-K-5 though all g
 rades are invited. The cost is $3/student with scholarships available for s
 tudents upon request. No student is turned away! Please contact Megan at me
 gan@sbgarden.org or call (208) 726-9358 schedule your class field trip.\\n\
 \n¿Sabías que las cucarachas pueden aguantar la respiración hasta cuaren
 ta minutos y sobrevivir sumergidas en el agua hasta treinta minutos? ¿O qu
 e las pulgas pueden saltar más de 100 veces su propia longitud? ¡Eso ser
 a como si tú saltaras una distancia equivalente a uno o dos campos de fú
 tbol! ¡GUAU!\\n\\n¡Ha llegado la hora del Festival Anual del Zoológico d
 e Insectos de SBG! Acércate al jardín el 16 de mayo\, de 11am a 2pm\, par
 a disfrutar de mucha diversión con actividades educativas prácticas en un
  ambiente festivo. Habrá exhibiciones interactivas\, criaturas vivas\, act
 ividades divertidas\, pintacaritas\, adopciones de animales en colaboració
 n con Mountain Humane\, comida a la venta ¡y mucho más! Entradas: adultos
  $10\, jóvenes de 3 a 18 años $5\, y niños pequeños de 0 a 3 años grat
 is.\\n\\nNota para los educadores: Invitamos a las clases al jardín para v
 isitas educativas programadas del 12 y el 15 de mayo\, de 9 am. a 2pm. Los 
 materiales estarán orientados a alumnos desde preescolar hasta 5.º grado\
 , aunque se invita a participar a todos los grados escolares. El costo es d
 e $3 por estudiante\; hay becas disponibles para los alumnos que las solici
 ten. ¡No se rechazará a ningún alumno! Por favor\, comunícate con Megan
  a través del correo megan@sbgarden.org o llama al (208) 726-9358 para pro
 gramar la excursión de tu clase.
URL:https://visitsunvalley.com/events/bug-zoo-festival-insect-superpowers/
END:VEVENT
END:VCALENDAR
