BEGIN:VCALENDAR
VERSION:2.0
PRODID:-//Sunvalley Events//EN
CALSCALE:GREGORIAN
METHOD:PUBLISH
X-WR-CALNAME:Sunvalley Events
X-WR-TIMEZONE:America/Boise
BEGIN:VTIMEZONE
TZID:America/Boise
BEGIN:DAYLIGHT
TZOFFSETFROM:-0700
TZOFFSETTO:-0600
TZNAME:MDT
DTSTART:19700308T020000
RRULE:FREQ=YEARLY;BYMONTH=3;BYDAY=SU
END:DAYLIGHT
BEGIN:STANDARD
TZOFFSETFROM:-0600
TZOFFSETTO:-0700
TZNAME:MST
DTSTART:19701101T020000
RRULE:FREQ=YEARLY;BYMONTH=11;BYDAY=SU
END:STANDARD
END:VTIMEZONE
BEGIN:VEVENT
UID:193691@sunvalley
DTSTAMP:20260421T094829Z
DTSTART;TZID=America/Boise:20260507T150000
DTEND;TZID=America/Boise:20260507T180000
SUMMARY:IDAHO GIVES
DESCRIPTION:Join us at The Argyros May 7 to see the impact of our local non
 profits and help fuel their\\nmissions for the year ahead. To celebrate the
  last day of Idaho Gives\, we’re opening our doors\\nfrom 3:00 PM to 6:00
  PM to highlight incredible nonprofit organizations that make the Wood\\nRi
 ver Valley such a special place to live and play.\\n\\nThis is your chance 
 to connect with The Argyros and other Valley-based nonprofits\, learn about
 \\nthe impact each makes\, and find out how you can help each participating
  organization thrive.\\nGrab a spot in the lobby\, enjoy live music startin
 g at 4:00 PM\, and stay a while—it’s the perfect\\nway to wait out the 
 traffic and support our local nonprofit community.\\n\\nAs a thank you for 
 your generosity\, anyone who shows proof of an Idaho Gives donation\, of an
 y\\nsize and to any nonprofit in the lobby\, will receive a complimentary d
 rink from The Argyros.\\n\\nParticipating Nonprofits: The Argyros • Bould
 er Mountain Tour • Far and Wise • Higher Ground\\n• Hunger Coalition 
 • Laughingstock Theatre Company • The Sawtooth Society • Trailing of 
 the\\nSheep
URL:https://visitsunvalley.com/events/idaho-gives/
END:VEVENT
END:VCALENDAR
