BEGIN:VCALENDAR
VERSION:2.0
PRODID:-//Sunvalley Events//EN
CALSCALE:GREGORIAN
METHOD:PUBLISH
X-WR-CALNAME:Sunvalley Events
X-WR-TIMEZONE:America/Boise
BEGIN:VTIMEZONE
TZID:America/Boise
BEGIN:DAYLIGHT
TZOFFSETFROM:-0700
TZOFFSETTO:-0600
TZNAME:MDT
DTSTART:19700308T020000
RRULE:FREQ=YEARLY;BYMONTH=3;BYDAY=SU
END:DAYLIGHT
BEGIN:STANDARD
TZOFFSETFROM:-0600
TZOFFSETTO:-0700
TZNAME:MST
DTSTART:19701101T020000
RRULE:FREQ=YEARLY;BYMONTH=11;BYDAY=SU
END:STANDARD
END:VTIMEZONE
BEGIN:VEVENT
UID:193687@sunvalley
DTSTAMP:20260420T115649Z
DTSTART;TZID=America/Boise:20260422T173000
DTEND;TZID=America/Boise:20260422T183000
SUMMARY:Financial Literacy Roundtable: Investment Basics
DESCRIPTION:An intimate roundtable designed to make investing feel clear\, 
 approachable\, and relatable to your life. Gain confidence in your financia
 l decisions with knowledge and understanding. Some topics we will cover:\\n
 \\n- The difference between stocks and bonds\, and how risk really works\\n
 - Investment vehicles simplified ( ETF's\, mutual funds\, managed accounts 
 )\\n- Why diversification matters\\n\\nDiscussion will be led by George Ber
 ridge\, Senior Wealth Advisor with Blue Sands Wealth in Ketchum.\\n\\nReser
 ve your seat ! Register with the Community Library using the QR code in the
  attached flyer.
URL:https://visitsunvalley.com/events/financial-literacy-roundtable-investm
 ent-basics/
END:VEVENT
END:VCALENDAR
