BEGIN:VCALENDAR
VERSION:2.0
PRODID:-//Sunvalley Events//EN
CALSCALE:GREGORIAN
METHOD:PUBLISH
X-WR-CALNAME:Sunvalley Events
X-WR-TIMEZONE:America/Boise
BEGIN:VTIMEZONE
TZID:America/Boise
BEGIN:DAYLIGHT
TZOFFSETFROM:-0700
TZOFFSETTO:-0600
TZNAME:MDT
DTSTART:19700308T020000
RRULE:FREQ=YEARLY;BYMONTH=3;BYDAY=SU
END:DAYLIGHT
BEGIN:STANDARD
TZOFFSETFROM:-0600
TZOFFSETTO:-0700
TZNAME:MST
DTSTART:19701101T020000
RRULE:FREQ=YEARLY;BYMONTH=11;BYDAY=SU
END:STANDARD
END:VTIMEZONE
BEGIN:VEVENT
UID:193685@sunvalley
DTSTAMP:20260421T082738Z
DTSTART;TZID=America/Boise:20260424T190000
DTEND;TZID=America/Boise:20260424T220000
SUMMARY:Adult Prom
DESCRIPTION:Dust off your prom look (or rewrite it entirely!) and hit the d
 ance floor for Adult Prom: a joyful night of music\, connection\, and commu
 nity in support of teens.\\n\\nAdult Prom supports The Space\, the teen hub
  where skilled educators provide personalized tutoring and creative after-s
 chool and summer programs to help teens build the skills and confidence the
 y need to succeed. Your ticket helps surround young people with caring cham
 pions and opportunities that meet them where they are and help them thrive.
 \\n\\nCome for the dancing\, the nostalgia\, and the sparkle. Leave knowing
  you helped make real support possible for real teens.
URL:https://visitsunvalley.com/events/adult-prom/
END:VEVENT
END:VCALENDAR
