BEGIN:VCALENDAR
VERSION:2.0
PRODID:-//Sunvalley Events//EN
CALSCALE:GREGORIAN
METHOD:PUBLISH
X-WR-CALNAME:Sunvalley Events
X-WR-TIMEZONE:America/Boise
BEGIN:VTIMEZONE
TZID:America/Boise
BEGIN:DAYLIGHT
TZOFFSETFROM:-0700
TZOFFSETTO:-0600
TZNAME:MDT
DTSTART:19700308T020000
RRULE:FREQ=YEARLY;BYMONTH=3;BYDAY=SU
END:DAYLIGHT
BEGIN:STANDARD
TZOFFSETFROM:-0600
TZOFFSETTO:-0700
TZNAME:MST
DTSTART:19701101T020000
RRULE:FREQ=YEARLY;BYMONTH=11;BYDAY=SU
END:STANDARD
END:VTIMEZONE
BEGIN:VEVENT
UID:193668@sunvalley
DTSTAMP:20260420T115158Z
DTSTART;TZID=America/Boise:20260513T083000
DTEND;TZID=America/Boise:20260513T100000
SUMMARY:Birding 101
DESCRIPTION:Ready to take flight into the world of birdwatching? Our Birdin
 g 101 course is the perfect starting point! Join us for a beginner-friendly
  introduction to the wonders of local birds. We'll cover the basics\, from 
 mastering binocular use to identifying common species\, and then head to th
 e beautiful Draper wetland for hands-on practice.\\n\\nAll necessary materi
 als will be provided\, but we encourage guests to bring their own binocular
 s or bird books if they already have them. Please note that space is limite
 d\, ensuring a personalized and engaging experience for all participants\, 
 and will be outside. Please dress accordingly for the weather.
URL:https://visitsunvalley.com/events/birding-101/
END:VEVENT
END:VCALENDAR
