BEGIN:VCALENDAR
VERSION:2.0
PRODID:-//Sunvalley Events//EN
CALSCALE:GREGORIAN
METHOD:PUBLISH
X-WR-CALNAME:Sunvalley Events
X-WR-TIMEZONE:America/Boise
BEGIN:VTIMEZONE
TZID:America/Boise
BEGIN:DAYLIGHT
TZOFFSETFROM:-0700
TZOFFSETTO:-0600
TZNAME:MDT
DTSTART:19700308T020000
RRULE:FREQ=YEARLY;BYMONTH=3;BYDAY=SU
END:DAYLIGHT
BEGIN:STANDARD
TZOFFSETFROM:-0600
TZOFFSETTO:-0700
TZNAME:MST
DTSTART:19701101T020000
RRULE:FREQ=YEARLY;BYMONTH=11;BYDAY=SU
END:STANDARD
END:VTIMEZONE
BEGIN:VEVENT
UID:193652@sunvalley
DTSTAMP:20260421T125437Z
DTSTART;TZID=America/Boise:20260514T123000
DTEND;TZID=America/Boise:20260514T153000
SUMMARY:Business Start Up Seminar LIVE
DESCRIPTION:Want to start your first business but don't know where to begin
 ? Consider this course your road map.\\n\\nOur Start-Up Seminar covers ever
 ything you need to know to start and grow your business here in Idaho.\\n\\
 nWhat you'll learn from our course:\\n\\nBusiness Regulation Essentials: Wh
 at you need to know (and do) before opening your doors\\nSmall Business Tax
 es: Key action items on what to do before and after your first sell\\nWhat'
 s A Business Plan and Why You Need One: Your guidepost to starting and grow
 ing your business\\nAnd much more!\\nHosted at the SBDC Center\, our Online
  Start-Up Seminar LIVE is a three-hour course that goes through the ins and
  outs of business.\\n\\nCost: $65\\n\\nFor additional information\, please 
 reach out to the office at 208.732.6450 or email IdahoSBDC@csi.edu.\\n\\nYo
 ur Trainers:\\nJerry Mottern - Idaho Small Business Development Center\\nEr
 ic Amador -Idaho Small Business Development Center\\nIrene Gonzalez - Small
  Business Administration\\n\\nRegistration closes April 7th.
URL:https://visitsunvalley.com/events/business-start-up-seminar-live/
END:VEVENT
END:VCALENDAR
