BEGIN:VCALENDAR
VERSION:2.0
PRODID:-//Sunvalley Events//EN
CALSCALE:GREGORIAN
METHOD:PUBLISH
X-WR-CALNAME:Sunvalley Events
X-WR-TIMEZONE:America/Boise
BEGIN:VTIMEZONE
TZID:America/Boise
BEGIN:DAYLIGHT
TZOFFSETFROM:-0700
TZOFFSETTO:-0600
TZNAME:MDT
DTSTART:19700308T020000
RRULE:FREQ=YEARLY;BYMONTH=3;BYDAY=SU
END:DAYLIGHT
BEGIN:STANDARD
TZOFFSETFROM:-0600
TZOFFSETTO:-0700
TZNAME:MST
DTSTART:19701101T020000
RRULE:FREQ=YEARLY;BYMONTH=11;BYDAY=SU
END:STANDARD
END:VTIMEZONE
BEGIN:VEVENT
UID:193637@sunvalley
DTSTAMP:20260421T125805Z
DTSTART;TZID=America/Boise:20260504T180000
DTEND;TZID=America/Boise:20260504T190000
SUMMARY:The Dark Side of Data Centers
DESCRIPTION:Looking to learn about one of today’s hot-button environmenta
 l issues? Join ICL’s Central Idaho Director Josh Johnson at the Liberty T
 heater for an informative science pub about the dark side of data centers. 
 We will explore the significant energy and water usage of these facilities 
 and the implications for Idaho going forward as more data centers spring up
  across the state.
URL:https://visitsunvalley.com/events/the-dark-side-of-data-centers/
END:VEVENT
END:VCALENDAR
