BEGIN:VCALENDAR
VERSION:2.0
PRODID:-//Sunvalley Events//EN
CALSCALE:GREGORIAN
METHOD:PUBLISH
X-WR-CALNAME:Sunvalley Events
X-WR-TIMEZONE:America/Boise
BEGIN:VTIMEZONE
TZID:America/Boise
BEGIN:DAYLIGHT
TZOFFSETFROM:-0700
TZOFFSETTO:-0600
TZNAME:MDT
DTSTART:19700308T020000
RRULE:FREQ=YEARLY;BYMONTH=3;BYDAY=SU
END:DAYLIGHT
BEGIN:STANDARD
TZOFFSETFROM:-0600
TZOFFSETTO:-0700
TZNAME:MST
DTSTART:19701101T020000
RRULE:FREQ=YEARLY;BYMONTH=11;BYDAY=SU
END:STANDARD
END:VTIMEZONE
BEGIN:VEVENT
UID:193344@sunvalley
DTSTAMP:20260422T091317Z
DTSTART;TZID=America/Boise:20260520T170000
DTEND;TZID=America/Boise:20260520T190000
SUMMARY:Tech Roundtable: Computer Buyer’s Guide
DESCRIPTION:Join the library’s tech guru\, Paul Zimmerman\, for a deep di
 ve into a particular technology\, software\, or digital literacy topic. Thi
 s monthly offering explores a different topic each session\, beginning with
  a short overview and followed by your questions and discussion.\\n\\nThis 
 month: Computer Buyer's Guide. The market is about to get more expensive\, 
 and understanding how old your machine is (PC or Mac)\, what that means\, h
 ow to move data\, and how to decide on buying a new computer is valuable kn
 owledge. Bring your laptops\, your questions (is 10 years old too old?)\, a
 nd settle in for some great discussion.
URL:https://visitsunvalley.com/events/tech-roundtable-computer-buyers-guide
 /
END:VEVENT
END:VCALENDAR
