BEGIN:VCALENDAR
VERSION:2.0
PRODID:-//Sunvalley Events//EN
CALSCALE:GREGORIAN
METHOD:PUBLISH
X-WR-CALNAME:Sunvalley Events
X-WR-TIMEZONE:America/Boise
BEGIN:VTIMEZONE
TZID:America/Boise
BEGIN:DAYLIGHT
TZOFFSETFROM:-0700
TZOFFSETTO:-0600
TZNAME:MDT
DTSTART:19700308T020000
RRULE:FREQ=YEARLY;BYMONTH=3;BYDAY=SU
END:DAYLIGHT
BEGIN:STANDARD
TZOFFSETFROM:-0600
TZOFFSETTO:-0700
TZNAME:MST
DTSTART:19701101T020000
RRULE:FREQ=YEARLY;BYMONTH=11;BYDAY=SU
END:STANDARD
END:VTIMEZONE
BEGIN:VEVENT
UID:193218@sunvalley
DTSTAMP:20260420T121120Z
DTSTART;TZID=America/Boise:20260311T183000
DTEND;TZID=America/Boise:20260311T200000
SUMMARY:Digging Deeper Series – After the Avalanche
DESCRIPTION:After the Avalanche - A recounting and reflections on an avalan
 che that caught two Sawtooth Avalanche Forecasters.\\n\\nJoin us for the mo
 st recent installment in the Digging Deeper Series where we dig deep into a
  topic to learn even more about winter in the mountains.
URL:https://visitsunvalley.com/events/digging-deeper-series-after-the-avala
 nche/
END:VEVENT
END:VCALENDAR
