BEGIN:VCALENDAR
VERSION:2.0
PRODID:-//Sunvalley Events//EN
CALSCALE:GREGORIAN
METHOD:PUBLISH
X-WR-CALNAME:Sunvalley Events
X-WR-TIMEZONE:America/Boise
BEGIN:VTIMEZONE
TZID:America/Boise
BEGIN:DAYLIGHT
TZOFFSETFROM:-0700
TZOFFSETTO:-0600
TZNAME:MDT
DTSTART:19700308T020000
RRULE:FREQ=YEARLY;BYMONTH=3;BYDAY=SU
END:DAYLIGHT
BEGIN:STANDARD
TZOFFSETFROM:-0600
TZOFFSETTO:-0700
TZNAME:MST
DTSTART:19701101T020000
RRULE:FREQ=YEARLY;BYMONTH=11;BYDAY=SU
END:STANDARD
END:VTIMEZONE
BEGIN:VEVENT
UID:193179@sunvalley
DTSTAMP:20260423T085943Z
DTSTART;TZID=America/Boise:20260305T183000
DTEND;TZID=America/Boise:20260305T210000
SUMMARY:21st Annual Backcountry Film Fest
DESCRIPTION:Hosted by Nordic and Backcountry Skier's Alliance\, in partners
 hip with Winter Wildlands Alliance—the national nonprofit dedicated to pr
 otecting America’s wild snowscapes—the Backcountry Film Festival is par
 t of a 100+ city international tour celebrating the spirit of human-powered
  adventure — through stories that connect us to wild places\, to each oth
 er\, and to the movement to keep winter wild.\\nThis year’s screening wil
 l feature more than just films:\\nRaffle prizes from local outdoor business
 es\\nFundraiser for Sawtooth Avalanche Center and Nordic and Backcountry Sk
 ier's Alliance\\nAt 7pm\, the lights go down and the new Backcountry Film F
 estival lineup takes the stage—a curated collection of films that celebra
 te winter adventure and the fight to protect the places we love.
URL:https://visitsunvalley.com/events/21st-annual-backcountry-film-fest/
END:VEVENT
END:VCALENDAR
