BEGIN:VCALENDAR
VERSION:2.0
PRODID:-//Sunvalley Events//EN
CALSCALE:GREGORIAN
METHOD:PUBLISH
X-WR-CALNAME:Sunvalley Events
X-WR-TIMEZONE:America/Boise
BEGIN:VTIMEZONE
TZID:America/Boise
BEGIN:DAYLIGHT
TZOFFSETFROM:-0700
TZOFFSETTO:-0600
TZNAME:MDT
DTSTART:19700308T020000
RRULE:FREQ=YEARLY;BYMONTH=3;BYDAY=SU
END:DAYLIGHT
BEGIN:STANDARD
TZOFFSETFROM:-0600
TZOFFSETTO:-0700
TZNAME:MST
DTSTART:19701101T020000
RRULE:FREQ=YEARLY;BYMONTH=11;BYDAY=SU
END:STANDARD
END:VTIMEZONE
BEGIN:VEVENT
UID:193159@sunvalley
DTSTAMP:20260421T105913Z
DTSTART;TZID=America/Boise:20260406T173000
DTEND;TZID=America/Boise:20260406T183000
SUMMARY:ART SPARKS: A Guided Writing Workshop with Martha Williams
DESCRIPTION:Set inside the galleries of Sun Valley Museum of Art\, this wri
 ting workshop invites participants to use the artworks on view as powerful 
 points of entry into their own stories\, reflections\, and imaginings. Surr
 ounded by works from the exhibition Memory of a Future Once Imagined\, writ
 ers will begin by observing closely before responding to guided prompts tha
 t transform visual details into vivid language. An artwork might spark a me
 mory\, inspire a character sketch\, or unlock unexpected metaphors. The res
 ult is a dynamic\, cross-disciplinary exploration where art serves as both 
 inspiration and reflection.\\n\\nWe’ll have writing materials ready for y
 ou\, or feel free to bring a favorite journal and writing utensil from home
 .\\nThe workshop is a collaborative project between The Community Library a
 nd Sun Valley Museum of Art.\\n\\nWorkshop will take place from 5:30pm-6:30
 pm at The Museum.
URL:https://visitsunvalley.com/events/art-sparks-a-guided-writing-workshop-
 with-martha-williams/
END:VEVENT
END:VCALENDAR
