BEGIN:VCALENDAR
VERSION:2.0
PRODID:-//Sunvalley Events//EN
CALSCALE:GREGORIAN
METHOD:PUBLISH
X-WR-CALNAME:Sunvalley Events
X-WR-TIMEZONE:America/Boise
BEGIN:VTIMEZONE
TZID:America/Boise
BEGIN:DAYLIGHT
TZOFFSETFROM:-0700
TZOFFSETTO:-0600
TZNAME:MDT
DTSTART:19700308T020000
RRULE:FREQ=YEARLY;BYMONTH=3;BYDAY=SU
END:DAYLIGHT
BEGIN:STANDARD
TZOFFSETFROM:-0600
TZOFFSETTO:-0700
TZNAME:MST
DTSTART:19701101T020000
RRULE:FREQ=YEARLY;BYMONTH=11;BYDAY=SU
END:STANDARD
END:VTIMEZONE
BEGIN:VEVENT
UID:193150@sunvalley
DTSTAMP:20260421T111853Z
DTSTART;TZID=America/Boise:20260307T183000
DTEND;TZID=America/Boise:20260307T230000
SUMMARY:Higher Ground Adaptive Fundraiser: Kickoff the 4th annual Muffy Dav
 is Cup!
DESCRIPTION:Join us at Whiskeys on Main on Saturday\, March 7th as we rally
  support for adaptive programming through the 4th Annual Muffy Davis Cup!\\
 n\\nYour $50 ticket includes two drink tickets\, light bites\, a silent auc
 tion\, and a participant speaker sharing how adaptive sports change lives. 
 Then keep the party going—head downstairs at 9pm for BOOT JUICE and danci
 ng.\\n\\nEvery ticket fuels Higher Ground’s adaptive sports programs\, he
 lping provide life-changing recreational therapy for individuals with disab
 ilities right here in our community.
URL:https://visitsunvalley.com/events/higher-ground-adaptive-fundraiser-kic
 koff-the-4th-annual-muffy-davis-cup/
END:VEVENT
END:VCALENDAR
