BEGIN:VCALENDAR
VERSION:2.0
PRODID:-//Sunvalley Events//EN
CALSCALE:GREGORIAN
METHOD:PUBLISH
X-WR-CALNAME:Sunvalley Events
X-WR-TIMEZONE:America/Boise
BEGIN:VTIMEZONE
TZID:America/Boise
BEGIN:DAYLIGHT
TZOFFSETFROM:-0700
TZOFFSETTO:-0600
TZNAME:MDT
DTSTART:19700308T020000
RRULE:FREQ=YEARLY;BYMONTH=3;BYDAY=SU
END:DAYLIGHT
BEGIN:STANDARD
TZOFFSETFROM:-0600
TZOFFSETTO:-0700
TZNAME:MST
DTSTART:19701101T020000
RRULE:FREQ=YEARLY;BYMONTH=11;BYDAY=SU
END:STANDARD
END:VTIMEZONE
BEGIN:VEVENT
UID:193132@sunvalley
DTSTAMP:20260420T115016Z
DTSTART;TZID=America/Boise:20260306T170000
DTEND;TZID=America/Boise:20260306T190000
SUMMARY:Wild Game & Wine Festival
DESCRIPTION:Join The Wood River Land Trust\, First Lite\, and Roots Wine Ba
 r & Bottle Shop for an evening of excellent food and wine to raise funds fo
 r the purchase and perpetual protection of Spirit Woman Ranch. Guests wil
 l enjoy five game-inspired small plates with curated wine pairings by top l
 ocal chefs & restaurants\, including Sean Temple\, Ashley Roop\, Chris Simp
 son\, and Roots Wine Bar & Bottle Shop. Tickets begin at $175 and includes 
 a tax-deductible donation.\\n\\nLocated just east of Bellevue in Slaughterh
 ouse Canyon\, Spirit Woman Ranch's 80 acres are nestled in the foothills of
  the Pioneer Mountains and buffered by thousands of acres of public land. B
 y securing the property\, we will be able to guarantee public access via Sl
 aughterhouse Road and provide a permanent gateway to adjacent BLM lands for
  hunting and outdoor recreation. This area is critical wildlife habitat\, l
 ocated near the Owinza mule deer migration route and serves as a crucial co
 rridor for Idaho's iconic big game. Finally\, the property protects a porti
 on of Slaughterhouse Creek\, including pond and rare riparian wetlands. Th
 e Wood River Land Trust is currently under contract to purchase Spirit Woma
 n Ranch and we are within reach. With your support\, we can close the remai
 ning $80\,000 gap to protect this landscape forever.
URL:https://visitsunvalley.com/events/wild-game-wine-festival/
END:VEVENT
END:VCALENDAR
