BEGIN:VCALENDAR
VERSION:2.0
PRODID:-//Sunvalley Events//EN
CALSCALE:GREGORIAN
METHOD:PUBLISH
X-WR-CALNAME:Sunvalley Events
X-WR-TIMEZONE:America/Boise
BEGIN:VTIMEZONE
TZID:America/Boise
BEGIN:DAYLIGHT
TZOFFSETFROM:-0700
TZOFFSETTO:-0600
TZNAME:MDT
DTSTART:19700308T020000
RRULE:FREQ=YEARLY;BYMONTH=3;BYDAY=SU
END:DAYLIGHT
BEGIN:STANDARD
TZOFFSETFROM:-0600
TZOFFSETTO:-0700
TZNAME:MST
DTSTART:19701101T020000
RRULE:FREQ=YEARLY;BYMONTH=11;BYDAY=SU
END:STANDARD
END:VTIMEZONE
BEGIN:VEVENT
UID:193128@sunvalley
DTSTAMP:20260421T085640Z
DTSTART;TZID=America/Boise:20260314T163000
DTEND;TZID=America/Boise:20260314T180000
SUMMARY:Teen Open Mic Night
DESCRIPTION:Open Mic Night - an evening of teen art and performance!\\nOpen
  to anyone (teen art only\, though!)\\n\\nFree food and drinks!
URL:https://visitsunvalley.com/events/teen-open-mic-night/
END:VEVENT
END:VCALENDAR
