BEGIN:VCALENDAR
VERSION:2.0
PRODID:-//Sunvalley Events//EN
CALSCALE:GREGORIAN
METHOD:PUBLISH
X-WR-CALNAME:Sunvalley Events
X-WR-TIMEZONE:America/Boise
BEGIN:VTIMEZONE
TZID:America/Boise
BEGIN:DAYLIGHT
TZOFFSETFROM:-0700
TZOFFSETTO:-0600
TZNAME:MDT
DTSTART:19700308T020000
RRULE:FREQ=YEARLY;BYMONTH=3;BYDAY=SU
END:DAYLIGHT
BEGIN:STANDARD
TZOFFSETFROM:-0600
TZOFFSETTO:-0700
TZNAME:MST
DTSTART:19701101T020000
RRULE:FREQ=YEARLY;BYMONTH=11;BYDAY=SU
END:STANDARD
END:VTIMEZONE
BEGIN:VEVENT
UID:193093@sunvalley
DTSTAMP:20260421T081238Z
DTSTART;TZID=America/Boise:20260709T190000
DTEND;TZID=America/Boise:20260709T200000
SUMMARY:Hemingway Distinguished Lecture
DESCRIPTION:Celebrating the power of words and the creative spirit in a lan
 dscape that Hemingway loved. The annual Hemingway Distinguished Lecture is 
 presented each July\, honoring the month of Ernest Hemingway’s birth and 
 death. This major event is held outdoors on the library's lawn on 4th stree
 t.\\n\\nPast speakers have included Hampton Sides\, Joy Harjo\, Luis Albert
 o Urrea\, and Roxanne Gay. 2026 speaker to be announced soon. Learn about p
 ast Hemingway Distinguished Lectures here.\\n\\nThe 2026 speaker will be an
 nounced in early April\, and registration will open on April 13.
URL:https://visitsunvalley.com/?post_type=tribe_events&p=193093
END:VEVENT
END:VCALENDAR
