BEGIN:VCALENDAR
VERSION:2.0
PRODID:-//Sunvalley Events//EN
CALSCALE:GREGORIAN
METHOD:PUBLISH
X-WR-CALNAME:Sunvalley Events
X-WR-TIMEZONE:America/Boise
BEGIN:VTIMEZONE
TZID:America/Boise
BEGIN:DAYLIGHT
TZOFFSETFROM:-0700
TZOFFSETTO:-0600
TZNAME:MDT
DTSTART:19700308T020000
RRULE:FREQ=YEARLY;BYMONTH=3;BYDAY=SU
END:DAYLIGHT
BEGIN:STANDARD
TZOFFSETFROM:-0600
TZOFFSETTO:-0700
TZNAME:MST
DTSTART:19701101T020000
RRULE:FREQ=YEARLY;BYMONTH=11;BYDAY=SU
END:STANDARD
END:VTIMEZONE
BEGIN:VEVENT
UID:192834@sunvalley
DTSTAMP:20260420T115812Z
DTSTART;TZID=America/Boise:20260226T190000
DTEND;TZID=America/Boise:20260226T223000
SUMMARY:Listening Room: Columbia Jones + Jacob Rountree + Hurdy Gurdy Girls
DESCRIPTION:Join us for an intimate Liberty Listening Room evening celebrat
 ing American storytelling through song. Featuring Columbia Jones\, Jacob Ro
 undtree\, and the Hurdy Gurdy Girls\, this special night brings together so
 ulful folk\, indie introspection\, and old-time string band energy. From de
 eply personal\, heart-forward songwriting to porch-swinging harmonies roote
 d in Idaho’s history\, these artists share a commitment to real stories\,
  lived experience\, and the kind of music that brings people closer. Come l
 isten\, connect\, and be part of a night where great songs create real comm
 unity.
URL:https://visitsunvalley.com/events/listening-room-columbia-jones-jacob-r
 ountree-hurdy-gurdy-girls/
END:VEVENT
END:VCALENDAR
