BEGIN:VCALENDAR
VERSION:2.0
PRODID:-//Sunvalley Events//EN
CALSCALE:GREGORIAN
METHOD:PUBLISH
X-WR-CALNAME:Sunvalley Events
X-WR-TIMEZONE:America/Boise
BEGIN:VTIMEZONE
TZID:America/Boise
BEGIN:DAYLIGHT
TZOFFSETFROM:-0700
TZOFFSETTO:-0600
TZNAME:MDT
DTSTART:19700308T020000
RRULE:FREQ=YEARLY;BYMONTH=3;BYDAY=SU
END:DAYLIGHT
BEGIN:STANDARD
TZOFFSETFROM:-0600
TZOFFSETTO:-0700
TZNAME:MST
DTSTART:19701101T020000
RRULE:FREQ=YEARLY;BYMONTH=11;BYDAY=SU
END:STANDARD
END:VTIMEZONE
BEGIN:VEVENT
UID:192649@sunvalley
DTSTAMP:20260420T134920Z
DTSTART;TZID=America/Boise:20260217T173000
DTEND;TZID=America/Boise:20260217T183000
SUMMARY:MUSEUM PASSPORT: Helene Schjerfbeck with Metropolitan Museum of Art
  Curator Dita Amory
DESCRIPTION:Join SVMoA for a livestream conversation with Dita Amory\, the 
 Robert Lehman Curator in Charge at The Metropolitan Museum of Art\, about t
 he exhibition Seeing Silence: The Paintings of Helene Schjerfbeck. Amory cu
 rated the exhibition along with consulting curator Anna-Maria Bonsdorff\, d
 irector of the Ateneum Art Museum in Helsinki. Schjerfbeck is beloved in No
 rdic countries for her highly original style\, and the exhibition at The Me
 t is the first to showcase the artist’s work in a major United States mus
 eum. About the exhibition\, Amory writes\, “Seeing Silence looks beyond a
 rt history’s cultural mainstream to one woman who overcame immense strugg
 les to produce a powerful body of work\, highlighting her rightful place in
  the story of modernism.” The exhibition has garnered rave reviews from T
 he Wall Street Journal\, Vogue\, and Ocula (which named it one of the top 1
 0 exhibitions to see around the world).\\n\\nEnjoy the talk from your home 
 via Zoom or at an in-person gathering at the Museum. There will be time for
  questions after the talk.\\n\\nThis conversation is presented as part of S
 VMoA's new series Museum Passport\, talks on artists featured in major muse
 um exhibitions around the United States.
URL:https://visitsunvalley.com/events/museum-passport-helene-schjerfbeck-wi
 th-metropolitan-museum-of-art-curator-dita-amory/
END:VEVENT
END:VCALENDAR
