BEGIN:VCALENDAR
VERSION:2.0
PRODID:-//Sunvalley Events//EN
CALSCALE:GREGORIAN
METHOD:PUBLISH
X-WR-CALNAME:Sunvalley Events
X-WR-TIMEZONE:America/Boise
BEGIN:VTIMEZONE
TZID:America/Boise
BEGIN:DAYLIGHT
TZOFFSETFROM:-0700
TZOFFSETTO:-0600
TZNAME:MDT
DTSTART:19700308T020000
RRULE:FREQ=YEARLY;BYMONTH=3;BYDAY=SU
END:DAYLIGHT
BEGIN:STANDARD
TZOFFSETFROM:-0600
TZOFFSETTO:-0700
TZNAME:MST
DTSTART:19701101T020000
RRULE:FREQ=YEARLY;BYMONTH=11;BYDAY=SU
END:STANDARD
END:VTIMEZONE
BEGIN:VEVENT
UID:192531@sunvalley
DTSTAMP:20260421T110250Z
DTSTART;TZID=America/Boise:20260115T183000
DTEND;TZID=America/Boise:20260115T200000
SUMMARY:Intro to Avalanches Presentation
DESCRIPTION:Join the Friends of the Sawtooth Avalanche Center for a 90 minu
 te presentation based on the Know Before You Go platform\, introducing basi
 c concepts about snow\, avalanches\, and traveling safely in and near avala
 nche terrain. Learn from the Friends of SAC instructor team of snow experts
 \, mountain guides\, and experienced avalanche educators. We invite everyon
 e to join if you’re learning about avalanches for the first time or are a
  seasoned backcountry user.
URL:https://visitsunvalley.com/events/intro-to-avalanches-presentation/
END:VEVENT
END:VCALENDAR
