BEGIN:VCALENDAR
VERSION:2.0
PRODID:-//Sunvalley Events//EN
CALSCALE:GREGORIAN
METHOD:PUBLISH
X-WR-CALNAME:Sunvalley Events
X-WR-TIMEZONE:America/Boise
BEGIN:VTIMEZONE
TZID:America/Boise
BEGIN:DAYLIGHT
TZOFFSETFROM:-0700
TZOFFSETTO:-0600
TZNAME:MDT
DTSTART:19700308T020000
RRULE:FREQ=YEARLY;BYMONTH=3;BYDAY=SU
END:DAYLIGHT
BEGIN:STANDARD
TZOFFSETFROM:-0600
TZOFFSETTO:-0700
TZNAME:MST
DTSTART:19701101T020000
RRULE:FREQ=YEARLY;BYMONTH=11;BYDAY=SU
END:STANDARD
END:VTIMEZONE
BEGIN:VEVENT
UID:192377@sunvalley
DTSTAMP:20260419T152012Z
DTSTART;TZID=America/Boise:20260213T173000
DTEND;TZID=America/Boise:20260213T213000
SUMMARY:Trout Unlimited Hemingway Presents The International Fly Fishing Fi
 lm Festival
DESCRIPTION:Grab your friends\, family\, and fishing partners and join us f
 or an unforgettable night of fly-fishing films\, hosted by the Wood River V
 alley’s local Trout Unlimited chapter. Every ticket supports youth educat
 ion programs from TUH\, 5B Anglers\, and Project Big Wood. Each ticket incl
 udes a complimentary raffle entry for a chance to win a float trip on the U
 pper Salmon River\, generously donated by White Otter Outfitters. Bring the
  whole family—there will be door prizes\, kids’ raffles\, and a silent 
 auction.\\n\\nThe Argyros\, Friday\, February 13th\, Doors open at 5:30\, f
 ilms start at 6:30.\\n\\nTickets Here: https://ci.ovationtix.com/35937/prod
 uction/1260841?performanceId=11737331
URL:https://visitsunvalley.com/events/trout-unlimited-hemingway-presents-th
 e-international-fly-fishing-film-festival/
END:VEVENT
END:VCALENDAR
