BEGIN:VCALENDAR
VERSION:2.0
PRODID:-//Sunvalley Events//EN
CALSCALE:GREGORIAN
METHOD:PUBLISH
X-WR-CALNAME:Sunvalley Events
X-WR-TIMEZONE:America/Boise
BEGIN:VTIMEZONE
TZID:America/Boise
BEGIN:DAYLIGHT
TZOFFSETFROM:-0700
TZOFFSETTO:-0600
TZNAME:MDT
DTSTART:19700308T020000
RRULE:FREQ=YEARLY;BYMONTH=3;BYDAY=SU
END:DAYLIGHT
BEGIN:STANDARD
TZOFFSETFROM:-0600
TZOFFSETTO:-0700
TZNAME:MST
DTSTART:19701101T020000
RRULE:FREQ=YEARLY;BYMONTH=11;BYDAY=SU
END:STANDARD
END:VTIMEZONE
BEGIN:VEVENT
UID:192134@sunvalley
DTSTAMP:20260421T105913Z
DTSTART;TZID=America/Boise:20260121T180000
DTEND;TZID=America/Boise:20260121T193000
SUMMARY:Snowmobile Avalanche Awareness
DESCRIPTION:Join Margaret Wheeler\, and the Friends of the Sawtooth Avalanc
 he Center in this fun and interactive night of all things avalanche skills 
 specifically for snowmobilers. Whether you are just getting into the sport\
 , looking to brush up on your skills\, or a seasoned veteran\, this night h
 as something for you!
URL:https://visitsunvalley.com/events/snowmobile-avalanche-awareness/
END:VEVENT
END:VCALENDAR
