BEGIN:VCALENDAR
VERSION:2.0
PRODID:-//Sunvalley Events//EN
CALSCALE:GREGORIAN
METHOD:PUBLISH
X-WR-CALNAME:Sunvalley Events
X-WR-TIMEZONE:America/Boise
BEGIN:VTIMEZONE
TZID:America/Boise
BEGIN:DAYLIGHT
TZOFFSETFROM:-0700
TZOFFSETTO:-0600
TZNAME:MDT
DTSTART:19700308T020000
RRULE:FREQ=YEARLY;BYMONTH=3;BYDAY=SU
END:DAYLIGHT
BEGIN:STANDARD
TZOFFSETFROM:-0600
TZOFFSETTO:-0700
TZNAME:MST
DTSTART:19701101T020000
RRULE:FREQ=YEARLY;BYMONTH=11;BYDAY=SU
END:STANDARD
END:VTIMEZONE
BEGIN:VEVENT
UID:191989@sunvalley
DTSTAMP:20260419T134251Z
DTSTART;TZID=America/Boise:20260303T173000
DTEND;TZID=America/Boise:20260303T193000
SUMMARY:“Chaplains” Film Screening
DESCRIPTION:"Chaplains\," a 2016 documentary from Martin Doblmeier\, goes i
 nside the dynamic and fast-changing world of chaplains\, men and women who 
 represent their own particular faith tradition but who are trained to be of
  comfort and support to people of all faiths — or to those who profess no
  faith.\\n\\nWith a tradition dating back centuries\, chaplains today are o
 n the front lines\, often in the midst of life and death situations\, where
  the questions are the deepest and the need for spiritual and pastoral care
  the greatest. From the war zone to the workplace\, chaplains serve as past
 or\, social worker\, counselor\, and bridge builder\, and “lean into the 
 painful places\,” as prison chaplain Karuna Thompson says.\\n\\nWhile the
 re have been chaplains on the battlefield for centuries\, today’s battlef
 ields can be anywhere people feel danger or despair\, or where they simply 
 need a spiritual connection. "Chaplains\," which is structured as a series 
 of stories\, follows a unique group of dedicated men and women into a multi
 tude of arenas where they offer help and support: the battlefields in Afgha
 nistan\, a motion picture retirement home in Hollywood\, a poultry processi
 ng plant in Tennessee\, a state penitentiary in Oregon\, the U.S. Congress\
 , at the hospital bedside\, and at the NASCAR racetrack.\\n\\nThrough these
  diverse stories\, Chaplains offers an engrossing and thought-provoking loo
 k at brave men and women on the frontiers of faith\, whose work crosses den
 ominational differences and provides comfort to a broad cross-section of pe
 ople eager for help and comfort.\\n\\nPresented in collaboration with Sun V
 alley Seventh-Day Adventist Church\, the Wood River Jewish Community\, Ligh
 t on the Mountains Center for Spiritual Living\, The Church of Jesus Christ
  of Latter-day Saints in Hailey\, and St. Thomas Episcopal Church.\\n\\nReg
 istration requested. In-person only. The film runtime is 2 hours.
URL:https://visitsunvalley.com/events/chaplains-film-screening/
END:VEVENT
END:VCALENDAR
