BEGIN:VCALENDAR
VERSION:2.0
PRODID:-//Sunvalley Events//EN
CALSCALE:GREGORIAN
METHOD:PUBLISH
X-WR-CALNAME:Sunvalley Events
X-WR-TIMEZONE:America/Boise
BEGIN:VTIMEZONE
TZID:America/Boise
BEGIN:DAYLIGHT
TZOFFSETFROM:-0700
TZOFFSETTO:-0600
TZNAME:MDT
DTSTART:19700308T020000
RRULE:FREQ=YEARLY;BYMONTH=3;BYDAY=SU
END:DAYLIGHT
BEGIN:STANDARD
TZOFFSETFROM:-0600
TZOFFSETTO:-0700
TZNAME:MST
DTSTART:19701101T020000
RRULE:FREQ=YEARLY;BYMONTH=11;BYDAY=SU
END:STANDARD
END:VTIMEZONE
BEGIN:VEVENT
UID:191046@sunvalley
DTSTAMP:20260423T104532Z
DTSTART;TZID=America/Boise:20251204T180000
DTEND;TZID=America/Boise:20251204T180000
SUMMARY:Higher Ground Movie Night
DESCRIPTION:Grab your family & friends\, enjoy some popcorn and join us for
  a special screening of Breaking Waves! Breaking Waves is a documentary sho
 wcasing Kelda Wood\, the first para-athlete to row across the Atlantic Ocea
 n solo.  Following this "ordinary" woman's journey through the tallest pea
 ks in the world\, the GB Paralympic squad\, and cancer\, inspires us to go 
 on our own journey.\\n\\nProceeds go towards supporting programs at Higher 
 Ground. There will also be a raffle - with some great prizes up for grabs! 
 Hope to see you all there!\\n\\nDecember 4th | Liberty Theater in Hailey\\n
 Tickets are $10 in advance\, $15 at the door.\\nDoors open at 6pm with the 
 film starting at 6:30 pm.\\nTicket Link: https://liberty-theatre.squarespa
 ce.com/events/breaking-waves\\n\\nBreaking Waves\\n2024 | 53 mins\\nDirecto
 r: Alice Russo\\n\\nSynopsis\\nBreaking Waves tells the story of Kelda Wood
 \, a British adaptive adventurer who doesn’t take no for an answer. She w
 as a world class equestrian\, Olympics-bound\, when she experienced a life-
 changing accident after a giant hay bale fell on her head\, the shock shatt
 ering her ankle. But rather than giving up\, she began embodying the attitu
 de of saying ‘How Can I?’ instead of ‘I Can’t.’ She became the fi
 rst female para-athlete to summit Mt Aconcagua (the tallest peak in South A
 merica)\, trained with Great Britain for the para-canoe squad in the 2016 P
 aralympics in Rio\, and was the first para-athlete to row solo across the A
 tlantic Ocean. She is now the leader of the UK-based charity Climbing Out\
 , which takes people who have experienced a life-changing diagnosis\, injur
 y or trauma on outdoor wilderness treks to help rebuild their self-confiden
 ce. Despite her incredible achievements\, Kelda’s story is a relatable on
 e of resilience and empowerment that everyone can take inspiration from and
  incorporate into our own lives.\\n\\nLink to trailer here:\\nhttps://www.y
 outube.com/watch?v=pdTGQGcdlXA
LOCATION:110 North Main Street\, Hailey\, ID\, 83333\, United States
URL:https://visitsunvalley.com/events/higher-ground-movie-night/
END:VEVENT
END:VCALENDAR
