BEGIN:VCALENDAR
VERSION:2.0
PRODID:-//Sunvalley Events//EN
CALSCALE:GREGORIAN
METHOD:PUBLISH
X-WR-CALNAME:Sunvalley Events
X-WR-TIMEZONE:America/Boise
BEGIN:VTIMEZONE
TZID:America/Boise
BEGIN:DAYLIGHT
TZOFFSETFROM:-0700
TZOFFSETTO:-0600
TZNAME:MDT
DTSTART:19700308T020000
RRULE:FREQ=YEARLY;BYMONTH=3;BYDAY=SU
END:DAYLIGHT
BEGIN:STANDARD
TZOFFSETFROM:-0600
TZOFFSETTO:-0700
TZNAME:MST
DTSTART:19701101T020000
RRULE:FREQ=YEARLY;BYMONTH=11;BYDAY=SU
END:STANDARD
END:VTIMEZONE
BEGIN:VEVENT
UID:189852@sunvalley
DTSTAMP:20260420T115225Z
DTSTART;TZID=America/Boise:20251018T100000
DTEND;TZID=America/Boise:20251021T160000
SUMMARY:Annual Fall Book and Bake Sale – Friends of The Hailey Public Lib
 rary
DESCRIPTION:Enjoy yummy treats\, help recycle and reuse good reads and supp
 ort the Friends of Hailey Public Library.\\n\\nGently used book donations a
 ccepted at Hailey Town Center West from 10 a.m. to 4 p.m. Oct. 18-21. Pleas
 e no drop-offs outside times or at the Hailey Library.\\n\\nBook sale start
 s with the Friends Only Sale from 4 p.m. to 6 p.m. on Oct. 22. Sale opens t
 o all on Oct. 23 and 24\, from 9 a.m. to 6 p.m.\, along with the bake sale.
 \\n\\nBag Day is Oct. 25! Fill up a provided reusable bag for $10 from 9 a.
 m. to 3 p.m.\\n\\nFor more info or to help email haileylibraryfriends@gmail
 .com.
LOCATION:116 S River St\, Hailey\, Idaho\, 83333\, United States
URL:https://visitsunvalley.com/events/annual-fall-book-and-bake-sale-friend
 s-of-the-hailey-public-library/
END:VEVENT
END:VCALENDAR
