BEGIN:VCALENDAR
VERSION:2.0
PRODID:-//Sunvalley Events//EN
CALSCALE:GREGORIAN
METHOD:PUBLISH
X-WR-CALNAME:Sunvalley Events
X-WR-TIMEZONE:America/Boise
BEGIN:VTIMEZONE
TZID:America/Boise
BEGIN:DAYLIGHT
TZOFFSETFROM:-0700
TZOFFSETTO:-0600
TZNAME:MDT
DTSTART:19700308T020000
RRULE:FREQ=YEARLY;BYMONTH=3;BYDAY=SU
END:DAYLIGHT
BEGIN:STANDARD
TZOFFSETFROM:-0600
TZOFFSETTO:-0700
TZNAME:MST
DTSTART:19701101T020000
RRULE:FREQ=YEARLY;BYMONTH=11;BYDAY=SU
END:STANDARD
END:VTIMEZONE
BEGIN:VEVENT
UID:189708@sunvalley
DTSTAMP:20260423T090105Z
DTSTART;TZID=America/Boise:20251111T173000
DTEND;TZID=America/Boise:20251111T193000
SUMMARY:Mission Mt. Mangart Film Screening
DESCRIPTION:Join professional skier\, filmmaker\, and Colorado Snowsports H
 all of Fame inductee\, Chris Anthony\, for a Veteran’s Day presentation o
 f his award-winning documentary Mission Mt. Mangart. The film follows the U
 .S. Army's legendary 10th Mountain Division's trailblazing efforts\, which 
 were led by volunteers during the experimental infantry unit in the Julian 
 Alps region of Italy from the initial concept to the end of World War II (W
 W2). While many books\, films\, and stories have recounted the 10th's histo
 ry\, Mission Mt. Mangart delves into the untold tales of the 10th\, which A
 nthony brings back to life. The documentary portrays a unique perspective s
 hared by skiing professional Chris Anthony\, who serendipitously stumbled u
 pon the Division's exploits while on a personal skiing trip to Italy.\\n\\n
 Mission Mt. Mangart was written\, directed\, edited\, and produced by Chris
  Anthony\, who also created the film's original score in partnership with A
 merican composer Carlo Nicolau. In addition to creating award-winning films
  and documentaries\, Anthony also operates a non-profit called the Chris An
 thony Youth Initiative Project whose mission is to improve the quality of l
 ife by introducing youth to educational enrichment opportunities.
LOCATION:415 Spruce Ave\, Ketchum\, ID\, 83340\, United States
URL:https://visitsunvalley.com/events/mission-mt-mangart-film-screening/
END:VEVENT
END:VCALENDAR
