BEGIN:VCALENDAR
VERSION:2.0
PRODID:-//Sunvalley Events//EN
CALSCALE:GREGORIAN
METHOD:PUBLISH
X-WR-CALNAME:Sunvalley Events
X-WR-TIMEZONE:America/Boise
BEGIN:VTIMEZONE
TZID:America/Boise
BEGIN:DAYLIGHT
TZOFFSETFROM:-0700
TZOFFSETTO:-0600
TZNAME:MDT
DTSTART:19700308T020000
RRULE:FREQ=YEARLY;BYMONTH=3;BYDAY=SU
END:DAYLIGHT
BEGIN:STANDARD
TZOFFSETFROM:-0600
TZOFFSETTO:-0700
TZNAME:MST
DTSTART:19701101T020000
RRULE:FREQ=YEARLY;BYMONTH=11;BYDAY=SU
END:STANDARD
END:VTIMEZONE
BEGIN:VEVENT
UID:189189@sunvalley
DTSTAMP:20260421T081210Z
DTSTART;TZID=America/Boise:20251009T173000
DTEND;TZID=America/Boise:20251009T190000
SUMMARY:Minidoka Civil Liberties Symposium: The Coram Nobis Cases
DESCRIPTION:Join Friends of Minidoka\, Minidoka National Historic Site\, an
 d The Community Library for the 2025 Civil Liberties Symposium\, The Coram 
 Nobis Cases: Gordon Hirabayashi\, Fred Korematsu\, and Minoru Yasui.\\n\\nG
 ordon Hirabayashi\, Fred Korematsu\, and Minoru Yasui resisted the unjust o
 rders that led to the incarceration of Japanese Americans during WWII\, and
  the Supreme Court\, holding those orders constitutional\, affirmed their c
 onvictions. Forty years later\, Hirabayashi\, Korematsu\, and Yasui reopene
 d their cases based on proof that the government lied to the Court.\\n\\nLe
 arn about these landmark cases and the overturning of their criminal convic
 tions for their wartime civil disobedience. Kathryn Bannai\, Lorraine Banna
 i\, and Peggy Nagae\, attorneys from the three legal teams\, will discuss t
 heir cases and implications for today. Discussion moderated by Melissa Davl
 in of Idaho Public Television.\\n\\nRegistration is recommended to join us 
 in person. The program will also be livestreamed\, though a recording will 
 not be available later.
LOCATION:415 Spruce Ave\, Ketchum\, ID\, 83340\, United States
URL:https://visitsunvalley.com/events/minidoka-civil-liberties-symposium-th
 e-coram-nobis-cases/
END:VEVENT
END:VCALENDAR
